BEGIN:VCALENDAR
VERSION:2.0
PRODID:-//Tempo di Vivere//NONSGML kigkonsult.se iCalcreator 2.41.92//
CALSCALE:GREGORIAN
METHOD:PUBLISH
UID:64363835-3663-4030-a135-643735623135
X-WR-CALNAME:iCagenda
X-WR-CALDESC:Event Management Extension for Joomla!
X-WR-RELCALID:3E26604A-50F4-4449-8B3E-E4F4932D05B5
X-WR-TIMEZONE:UTC
BEGIN:VTIMEZONE
TZID:UTC
END:VTIMEZONE
BEGIN:VEVENT
UID:36633438-3833-4639-b335-616237383634
DTSTAMP:20260425T182431Z
CATEGORIES:Cambio vita
CLASS:PUBLIC
DESCRIPTION;ALTREP="CID:<FFFF__=0ABBE548DFE235B58f9e8a93d@coffeebean.com>":
 Ponte del 2 giugno in ecovillaggio\nQuattro giorni di immersione nella nat
 ura e nella vita comunitaria\,&nbsp\;per scoprire la vita di comunità\, po
 rtandosi a casa l'energia del condividere un pezzo di strada con gli altri
 .\nUn momento per entrare nella vita dell’ecovillaggio per quello che è da
 vvero: persone\, relazioni\, momenti da vivere insieme e un tempo che camb
 ia ritmo.\nLe giornate si costruiscono passo dopo passo\, lasciando spazio
  alla leggerezza e al piacere di stare insieme. Un'occasione per staccare 
 dal rumore quotidiano e dal senso di un 'affollamento'\, spesso 'troppo vu
 oto'.\n&nbsp\;\nAvrai l'opportunità di immergerti nella quotidianità di un
 a comunità intenzionale mentre esplori il contatto con la natura\, la vita
  condivisa\, gli animali e l'arte dell'autoproduzione.&nbsp\;\n\nManualità
  e creatività: un tempo per creare e trasformare con piccoli laboratori di
  autoproduzione e artigianato. Creeremo mandala\, Ojos de Dios\, piccoli o
 ggetti e tutto quanto la nostra creatività ci suggerirà\,&nbsp\;\nLaborato
 ri di cucina: pasta fresca\, pane e pizza... il tempo in cucina per nutrir
 e scambio e convivialità.\nContatto con la terra:&nbsp\;tutto sarà immerso
  nel verde della nostra valle. I sentieri da percorrere\, i boschi\, le ca
 scate\, l'incontro con i nostri animali (caprette\, galline e anatre) e co
 n l'orto ci aiuteranno a ritrovare un contatto immediato e spontaneo con l
 a terra.\nPresenza e relazione: accanto alla vita all’aria aperta\, ci sar
 anno spazi dedicati alla condivisione. Momenti di cerchio\, attività sul c
 orpo e cerchi di Playfight\, occasioni per osservare come stiamo con gli a
 ltri e portare più consapevolezza e gioco in quello che viviamo.\n\n\n&nbs
 p\;\nUnisciti a noi per un'esperienza indimenticabile.\nUn'opportunità per
  condividere\, crescere e celebrare in compagnia.\nDettagli\n- Arrivo saba
 to 30 maggio ore 10:30\, partenza martedì 2 maggio ore 17:30 cca\n- Non so
 no ammessi animali nel rispetto di quelli residenti\nCosa comprende il con
 tributo\n\nVitto e alloggio (in camere condivise fino a 6 persone con bagn
 i in comune o in camper propri)\nEsperienze varie e laboratori.\n\nContrib
 uti richiesti:\nAbbiamo pensato a diverse possibilità per poter partecipar
 e a questo evento:\n1)&nbsp\;Arrivo sabato 30 maggio ore 10:30\, partenza 
 martedì 2 maggio ore 17\,30\n\nAdulti e ragazzi dai 13 anni in su: 250€/pe
 rsona\nBambini&nbsp\;da 4 a 12 anni:&nbsp\;130€/bambino&nbsp\;\nBambini &l
 t\; 3 anni gratuito\n\n+\n\nTessera associativa per l'anno 2026&nbsp\;(obb
 ligatoria per chiunque desideri partecipare alle nostre iniziative):&nbsp\
 ;15€/adulto(se sei già nostro socio\, il contributo richiesto è solo quell
 o per l'esperienza)\n\n2) 1 giornata a scelta (dalle 10 di mattina alle 18
 )*\n\nAdulti e ragazzi dai 13 anni in su: 50 €/persona\nBambini&nbsp\;da 4
  a 12 anni: 30€/persona\nBambini &lt\; 3 anni gratuito\n\nIl contributo in
 clude: pranzo e attività. Se si desidera cenare e pernottare per un solo g
 iorno contattare il 329 0218941*\n+&nbsp\;Tessera associativa per l'anno 2
 026&nbsp\;(obbligatoria per chiunque desideri partecipare alle nostre iniz
 iative):&nbsp\;15€/adulto(se sei già nostro socio\, il contributo richiest
 o è solo quello per l'esperienza)\n&nbsp\;\n*NOTA: IN CASO DI ULTIMI POSTI
  DISPONIBILI\, SARÀ DATA PRIORITÀ A CHI PARTECIPERÀ ALL'INTERA ESPERIENZA.
 \n&nbsp\;\nLudoteca\nIn caso di necessità (ad es. durante l'attività del p
 layfight) è previsto un servizio di Ludoteca\, per bambini fino a 10 anni\
 , con un contributo di 10€ l'ora.\nModalità di iscrizione:\n1) Compilare i
 l modulo di iscrizione attraverso il pulsante qui sotto:\n\n2)&nbsp\;Compi
 lare la&nbsp\;domanda associativa per l'anno 2026&nbsp\;(se non già soci -
  un modulo per ogni partecipante)\n3) Versamento dell'intera quota di cui 
 sopra\n&nbsp\;tramite bonifico bancario su conto corrente intestato a:\nTe
 mpo Di Vivere APSc/o Banca Popolare Etica&nbsp\;IBAN: IT35D050181280000001
 6858540\nCausale: Ponte 2 giugno in ecovillaggio + nome partecipante (se d
 ifferente dall'intestatario del conto)\nInviare copia del pagamento a&nbsp
 \;info@tempodivivere.it&nbsp\;inserendo nell'email anche numero e nome com
 pleto dei partecipanti\nPer ulteriori info:\nKatia 329 0218941 - Ermanno 3
 33 5772199 - Michele&nbsp\;329 1648528info@tempodivivere.it\n&nbsp\;\n&nbs
 p\;\n\nDISCLAIMER (tratto dai Regolamenti interni dell'Associazioni vision
 abili in sede)\nCORSI ONLINE\nTutti i corsi proposti in via digitale danno
  la possibilità di essere seguiti tramite le videoregistrazioni degli inco
 ntri per i 3 mesi successivi alla fine delle lezioni. Per questa tiplogia 
 di docenza non è previsto un rimborso in caso di non presenza a uno o più 
 moduli in quanto l'associato avrà comunque la possibilità di recuperare in
  un secondo momento\, a proprio piacimento\, i contenuti.\nIN CASO DI RINU
 NCIA ALLA PARTECIPAZIONE AI CORSI IN PRESENZA\nIn caso d'impossibilità a p
 artecipare all’evento\, manifestata almeno quindici (15) giorni prima dell
 ’inizio dello stesso\, l'associato potrà inviare a TDV una richiesta motiv
 ata scritta\, contenente la necessità di rinunciare alla sua partecipazion
 e. In questo caso l’associazione rimborserà la quota versata\, trattenendo
 l'importo relativo alla quota associativa annuale (15 €) e alle spese per 
 le pratiche di rimborso\, pari a € 5.\nL'associato potrà scegliere\, in al
 ternativa\, di partecipare ad un altro evento nell’arco dei sei (6) mesi s
 uccessivi di pari importo o integrando l’eventuale differenza positiva tra
  il contributo di partecipazione all’evento scelto in sostituzione a quell
 a dell’evento pagato. Non saranno rimborsate differenze negative.Rinunce a
 lla partecipazione pervenute con un preavviso inferiore a quindici (15) gi
 orni dall'inizio dell'evento non danno diritto ad alcun tipo di rimborso.
 \nVARIAZIONI:\nQualora l'Associazione ritenesse\, per insindacabili ragion
 i (inclusi insufficiente numero dei partecipanti\, eventi imprevisti che r
 endano inagibile la sede\, assenza del docente ecc.) che l'iniziativa non 
 possa svolgersi nelle date e nei luoghi indicati\, si impegna a darne noti
 zia ai partecipanti\, che avranno diritto al risarcimento delle quote vers
 ate. Nel caso in cui l'evento o il corso venga riproposto in altra data en
 tro i sei (6) mesi successivi\, l'associato potrà chiedere il differimento
  della sua iscrizione\, mantenendo valida la prenotazione e la quota versa
 ta. L'associato potrà scegliere\, in alternativa\, di partecipare ad un ev
 ento&nbsp\;differente&nbsp\;nell’arco dei sei (6) mesi successivi\, di par
 i importo o integrando l’eventuale differenza positiva tra il contributo d
 i partecipazione all’evento scelto in sostituzione a quella dell’evento pa
 gato.\nEventuali spese di viaggio sostenute per avvicinarsi al luogo dell'
 evento non saranno rimborsate.
DTSTART:20260530T103000Z
DTEND:20260602T173000Z
GEO:+44.751736;+9.511537
LOCATION:Tempo di Vivere Aps
ORGANIZER;CN=:mailto:info@tempodivivere.it
SEQUENCE:1
SUMMARY:Ponte del 2 giugno in ecovillaggio: creatività\, natura\, gioco e l
 eggerezza
TRANSP:OPAQUE
URL:https://tempodivivere.it/eventi-iniziative/cambio-vita1/120-ponte-del-2
 -giugno-in-ecovillaggio.html
END:VEVENT
END:VCALENDAR
